BEGIN:VCALENDAR
VERSION:2.0
PRODID:SchoolNow
CALSCALE:GREGORIAN
BEGIN:VEVENT
UID:6bc3586a-2999-11ef-a7aa-0285aa2a7779
DTSTAMP:20240613T152718Z
SUMMARY:No School - Not in Attendance
URL;VALUE=URI:https://www.niles71.org/about-us/calendar/6117312/no-school-n
 ot-in-attendance
DTSTART:20241127T152600Z
DTEND:20241127T162600Z
END:VEVENT
END:VCALENDAR
