BEGIN:VCALENDAR
VERSION:2.0
PRODID:SchoolNow
CALSCALE:GREGORIAN
BEGIN:VEVENT
UID:92db5bdc-2999-11ef-b0cb-0a58a9feac02
DTSTAMP:20240613T152824Z
SUMMARY:No School - Thanksgiving
URL;VALUE=URI:https://www.niles71.org/about-us/calendar/6117313/no-school-t
 hanksgiving
DTSTART:20241128T152700Z
DTEND:20241128T162700Z
END:VEVENT
END:VCALENDAR
