BEGIN:VCALENDAR
VERSION:2.0
PRODID:SchoolNow
CALSCALE:GREGORIAN
BEGIN:VEVENT
UID:a5c1ba70-2999-11ef-a078-023ea7f94923
DTSTAMP:20240613T152855Z
SUMMARY:No School - Not in Attendance
URL;VALUE=URI:https://www.niles71.org/about-us/calendar/6117314/no-school-n
 ot-in-attendance
DTSTART:20241129T152800Z
DTEND:20241129T162800Z
END:VEVENT
END:VCALENDAR
