BEGIN:VCALENDAR
VERSION:2.0
PRODID:SchoolNow
CALSCALE:GREGORIAN
BEGIN:VEVENT
UID:e9230e2c-2999-11ef-aabc-0a58a9feac02
DTSTAMP:20240613T153719Z
SUMMARY:No School - Winter Break
URL;VALUE=URI:https://www.niles71.org/about-us/calendar/6117315/no-school-w
 inter-break
DTSTART;VALUE=DATE:20241223
DTEND;VALUE=DATE:20250104
END:VEVENT
END:VCALENDAR
