BEGIN:VCALENDAR
VERSION:2.0
PRODID:SchoolNow
CALSCALE:GREGORIAN
BEGIN:VEVENT
UID:1413544c-299b-11ef-bc0d-0a58a9feac02
DTSTAMP:20240613T170353Z
SUMMARY:No School - Martin Luther King  Jr. Day
URL;VALUE=URI:https://www.niles71.org/about-us/calendar/6117316/no-school-m
 artin-luther-king-jr-day
DTSTART;VALUE=DATE:20250120
DTEND;VALUE=DATE:20250121
END:VEVENT
END:VCALENDAR
