BEGIN:VCALENDAR
VERSION:2.0
PRODID:SchoolNow
CALSCALE:GREGORIAN
BEGIN:VEVENT
UID:9327f576-299b-11ef-97ea-0a58a9feac02
DTSTAMP:20240613T154243Z
SUMMARY:No School - Presidents' Day
URL;VALUE=URI:https://www.niles71.org/about-us/calendar/6117319/no-school-p
 residents-day
DTSTART;VALUE=DATE:20250217
DTEND;VALUE=DATE:20250218
END:VEVENT
END:VCALENDAR
