BEGIN:VCALENDAR
VERSION:2.0
PRODID:SchoolNow
CALSCALE:GREGORIAN
BEGIN:VEVENT
UID:c9c2103a-299b-11ef-8bb6-0affda807e4b
DTSTAMP:20240613T154415Z
SUMMARY:No School - Spring Break
URL;VALUE=URI:https://www.niles71.org/about-us/calendar/6117320/no-school-s
 pring-break
DTSTART;VALUE=DATE:20250324
DTEND;VALUE=DATE:20250329
END:VEVENT
END:VCALENDAR
