BEGIN:VCALENDAR
VERSION:2.0
PRODID:SchoolNow
CALSCALE:GREGORIAN
BEGIN:VEVENT
UID:e37c732a-299c-11ef-b24c-0a58a9feac02
DTSTAMP:20240801T122006Z
SUMMARY:New Family Orientation
URL;VALUE=URI:https://www.niles71.org/about-us/calendar/6117322/new-family-
 orientation
DTSTART:20240822T163000Z
DTEND:20240822T173000Z
END:VEVENT
END:VCALENDAR
