BEGIN:VCALENDAR
VERSION:2.0
PRODID:SchoolNow
CALSCALE:GREGORIAN
BEGIN:VEVENT
UID:f405698a-29a2-11ef-b04b-02f0b5b2aeb3
DTSTAMP:20240613T163532Z
SUMMARY:Early Release Day @ 11:30am
URL;VALUE=URI:https://www.niles71.org/about-us/calendar/6117332/early-relea
 se-day-11-30am
DTSTART;VALUE=DATE:20240913
DTEND;VALUE=DATE:20240914
END:VEVENT
END:VCALENDAR
