BEGIN:VCALENDAR
VERSION:2.0
PRODID:SchoolNow
CALSCALE:GREGORIAN
BEGIN:VEVENT
UID:2a220f1e-29a3-11ef-b7a4-0a58a9feac02
DTSTAMP:20240613T163703Z
SUMMARY:Early Release Day @ 11:30am
URL;VALUE=URI:https://www.niles71.org/about-us/calendar/6117333/early-relea
 se-day-11-30am
DTSTART;VALUE=DATE:20241011
DTEND;VALUE=DATE:20241012
END:VEVENT
END:VCALENDAR
