BEGIN:VCALENDAR
VERSION:2.0
PRODID:SchoolNow
CALSCALE:GREGORIAN
BEGIN:VEVENT
UID:46a507ea-29a3-11ef-a57b-0285aa2a7779
DTSTAMP:20240613T163751Z
SUMMARY:Early Release Day @ 11:30am
URL;VALUE=URI:https://www.niles71.org/about-us/calendar/6117335/early-relea
 se-day-11-30am
DTSTART;VALUE=DATE:20241125
DTEND;VALUE=DATE:20241126
END:VEVENT
END:VCALENDAR
