BEGIN:VCALENDAR
VERSION:2.0
PRODID:SchoolNow
CALSCALE:GREGORIAN
BEGIN:VEVENT
UID:54ce1b86-29a3-11ef-9af8-0a58a9feac02
DTSTAMP:20240613T163815Z
SUMMARY:Early Release Day @ 11:30am
URL;VALUE=URI:https://www.niles71.org/about-us/calendar/6117336/early-relea
 se-day-11-30am
DTSTART;VALUE=DATE:20241220
DTEND;VALUE=DATE:20241221
END:VEVENT
END:VCALENDAR
