BEGIN:VCALENDAR
VERSION:2.0
PRODID:SchoolNow
CALSCALE:GREGORIAN
BEGIN:VEVENT
UID:786053fc-29a3-11ef-b2b1-023ea7f94923
DTSTAMP:20240613T163914Z
SUMMARY:Early Release Day @ 11:30am
URL;VALUE=URI:https://www.niles71.org/about-us/calendar/6117338/early-relea
 se-day-11-30am
DTSTART;VALUE=DATE:20250321
DTEND;VALUE=DATE:20250322
END:VEVENT
END:VCALENDAR
