BEGIN:VCALENDAR
VERSION:2.0
PRODID:SchoolNow
CALSCALE:GREGORIAN
BEGIN:VEVENT
UID:f023c6de-5000-11ef-8c18-0e9cbf423d49
DTSTAMP:20240801T122424Z
SUMMARY:Registration & Residency Day
URL;VALUE=URI:https://www.niles71.org/about-us/calendar/6338747/registratio
 n-residency-day
DTSTART:20240801T160000Z
DTEND:20240801T190000Z
END:VEVENT
END:VCALENDAR
